BEGIN:VCALENDAR
VERSION:2.0
PRODID:-//ZContent.net//ZapCalLib 1.0//EN
CALSCALE:GREGORIAN
METHOD:PUBLISH
BEGIN:VEVENT
SUMMARY:Der G8 Gipfel aus afrikanischer Perspektive\n<font color=`#0070C0`>
 diese Veranstaltung fällt leider aus</font>
DTSTART:20070529T193000
DTEND:20070529T000000
UID:2026-04-24-12-28-37-0-@calendar.boell.de
DTSTAMP:20260424T102837
DESCRIPTION:Landesstiftung Berlin (Bildungswerk)
END:VEVENT
END:VCALENDAR
