BEGIN:VCALENDAR
VERSION:2.0
PRODID:-//ZContent.net//ZapCalLib 1.0//EN
CALSCALE:GREGORIAN
METHOD:PUBLISH
BEGIN:VEVENT
SUMMARY:Sudan - Geschichte und Aktualität einer Konfliktregion 
DTSTART:20070303T110000
DTEND:20070303T180000
UID:2026-04-25-13-27-17-0-@calendar.boell.de
DTSTAMP:20260425T112717
DESCRIPTION:Landesstiftung Berlin (Bildungswerk)
END:VEVENT
END:VCALENDAR
