BEGIN:VCALENDAR
VERSION:2.0
PRODID:-//ZContent.net//ZapCalLib 1.0//EN
CALSCALE:GREGORIAN
METHOD:PUBLISH
BEGIN:VEVENT
SUMMARY:Energiepolitik in Lateinamerika | gemeinsame Perspektiven
DTSTART:20070519T150000
DTEND:20070519T210000
UID:2026-04-25-01-24-33-0-@calendar.boell.de
DTSTAMP:20260424T232433
DESCRIPTION:Landesstiftung Berlin (Bildungswerk)
END:VEVENT
END:VCALENDAR
