BEGIN:VCALENDAR
VERSION:2.0
PRODID:-//ZContent.net//ZapCalLib 1.0//EN
CALSCALE:GREGORIAN
METHOD:PUBLISH
BEGIN:VEVENT
SUMMARY:Zivilgesellschaftliche Aktivitäten in Russland | Engagement von un
 ten versus Lenkung von oben ?
DTSTART:20070629T170000
DTEND:20070701T160000
UID:2026-04-26-06-14-58-0-@calendar.boell.de
DTSTAMP:20260426T041458
DESCRIPTION:Landesstiftung Berlin (Bildungswerk)
END:VEVENT
END:VCALENDAR
