BEGIN:VCALENDAR
VERSION:2.0
PRODID:-//ZContent.net//ZapCalLib 1.0//EN
CALSCALE:GREGORIAN
METHOD:PUBLISH
BEGIN:VEVENT
SUMMARY:Der Tod an der europäischen Grenze | Militarisierung des Migration
 sregimes
DTSTART:20070319T193000
DTEND:20070319T000000
UID:2026-04-24-03-39-43-0-@calendar.boell.de
DTSTAMP:20260424T013943
DESCRIPTION:Landesstiftung Berlin (Bildungswerk)
END:VEVENT
END:VCALENDAR
