BEGIN:VCALENDAR
VERSION:2.0
PRODID:-//ZContent.net//ZapCalLib 1.0//EN
CALSCALE:GREGORIAN
METHOD:PUBLISH
BEGIN:VEVENT
SUMMARY:Tagung: Die Freiheit zu sterben | Selbstbestimmung durch Sterbehilf
 e und Patientenverfügungen
DTSTART:20070227T100000
DTEND:20070227T200000
UID:2026-04-25-01-01-37-0-@calendar.boell.de
DTSTAMP:20260424T230137
DESCRIPTION:Heinrich-Böll-Stiftung - Bundesstiftung Berlin
END:VEVENT
END:VCALENDAR
