BEGIN:VCALENDAR
VERSION:2.0
PRODID:-//ZContent.net//ZapCalLib 1.0//EN
CALSCALE:GREGORIAN
METHOD:PUBLISH
BEGIN:VEVENT
SUMMARY:Fachtagung zur Aktualität der Pädagogik A.S. Makarenkos
DTSTART:20070105T000000
DTEND:20070106T000000
UID:2026-04-25-04-45-03-0-@calendar.boell.de
DTSTAMP:20260425T024503
DESCRIPTION:
END:VEVENT
END:VCALENDAR
