BEGIN:VCALENDAR
VERSION:2.0
PRODID:-//ZContent.net//ZapCalLib 1.0//EN
CALSCALE:GREGORIAN
METHOD:PUBLISH
BEGIN:VEVENT
SUMMARY:Rekommunalisierung der Wasserbetriebe
DTSTART:20070326T190000
DTEND:20070326T210000
UID:2026-04-25-05-49-41-0-@calendar.boell.de
DTSTAMP:20260425T034941
DESCRIPTION:Landesstiftung Berlin (Bildungswerk)
END:VEVENT
END:VCALENDAR
