BEGIN:VCALENDAR
VERSION:2.0
PRODID:-//ZContent.net//ZapCalLib 1.0//EN
CALSCALE:GREGORIAN
METHOD:PUBLISH
BEGIN:VEVENT
SUMMARY:Fahrrad-Erkundungen im Berlin der NS-Zeit
DTSTART:20070422T110000
DTEND:20070422T130000
UID:2026-04-23-22-29-03-0-@calendar.boell.de
DTSTAMP:20260423T202903
DESCRIPTION:Landesstiftung Berlin (Bildungswerk)
END:VEVENT
END:VCALENDAR
