BEGIN:VCALENDAR
VERSION:2.0
PRODID:-//ZContent.net//ZapCalLib 1.0//EN
CALSCALE:GREGORIAN
METHOD:PUBLISH
BEGIN:VEVENT
SUMMARY:Aktions-Werkstatt: G8 den Wind aus den Segeln nehmen | Ein kreative
 s Wochenende mit „Nachspiel“ – gemeinsam organisiert von JANUN und a
 ttac
DTSTART:20070112T100000
DTEND:20070114T180000
UID:2026-04-24-10-16-15-0-@calendar.boell.de
DTSTAMP:20260424T081615
DESCRIPTION:Stiftung Leben & Umwelt / Heinrich-Böll-Stiftung Niedersachsen
END:VEVENT
END:VCALENDAR
