BEGIN:VCALENDAR
VERSION:2.0
PRODID:-//ZContent.net//ZapCalLib 1.0//EN
CALSCALE:GREGORIAN
METHOD:PUBLISH
BEGIN:VEVENT
SUMMARY:Laptop, Internet, E-Learning – Neues Lernen durch neue Techniken?
  | Reihe: Was bedeutet Bildung in Deutschland heute? #11
DTSTART:20070305T193000
DTEND:20070305T213000
UID:2026-04-25-02-12-39-0-@calendar.boell.de
DTSTAMP:20260425T001239
DESCRIPTION:Externe Veranstaltung
END:VEVENT
END:VCALENDAR
