BEGIN:VCALENDAR
VERSION:2.0
PRODID:-//ZContent.net//ZapCalLib 1.0//EN
CALSCALE:GREGORIAN
METHOD:PUBLISH
BEGIN:VEVENT
SUMMARY:Vortrag: Altes Modell in neuem Gewand? Ãœberlegungen zur Konzeption
  von â€ºGeschlechtâ€¹ in einem molekularbiologischen Feld | Vortrag von BÃ
 ¤rbel Mauss
DTSTART:20070110T180000
DTEND:20070110T200000
UID:2026-04-24-07-56-06-0-@calendar.boell.de
DTSTAMP:20260424T055606
DESCRIPTION:
END:VEVENT
END:VCALENDAR
