BEGIN:VCALENDAR
VERSION:2.0
PRODID:-//ZContent.net//ZapCalLib 1.0//EN
CALSCALE:GREGORIAN
METHOD:PUBLISH
BEGIN:VEVENT
SUMMARY:Dialog mit wem? Muslimische Selbstorganisation im europäischen Ver
 gleich | GRÜN trifft GRÜN #5
DTSTART:20070416T160000
DTEND:20070416T160000
UID:2026-04-24-00-37-19-0-@calendar.boell.de
DTSTAMP:20260423T223719
DESCRIPTION:Heinrich-Böll-Stiftung - Bundesstiftung Berlin
END:VEVENT
END:VCALENDAR
