BEGIN:VCALENDAR
VERSION:2.0
PRODID:-//ZContent.net//ZapCalLib 1.0//EN
CALSCALE:GREGORIAN
METHOD:PUBLISH
BEGIN:VEVENT
SUMMARY:Lokale Partnerschaften in der Stadtentwicklung
DTSTART:20070427T000000
DTEND:20070428T000000
UID:2026-04-25-04-18-02-0-@calendar.boell.de
DTSTAMP:20260425T021802
DESCRIPTION:Heinrich-Böll-Stiftung - Bundesstiftung Berlin
END:VEVENT
END:VCALENDAR
