BEGIN:VCALENDAR
VERSION:2.0
PRODID:-//ZContent.net//ZapCalLib 1.0//EN
CALSCALE:GREGORIAN
METHOD:PUBLISH
BEGIN:VEVENT
SUMMARY:Diversity Management:  In Vielfalt erfolgreich
DTSTART:20070510T103000
DTEND:20070511T170000
UID:2026-04-24-11-20-01-0-@calendar.boell.de
DTSTAMP:20260424T092001
DESCRIPTION:
END:VEVENT
END:VCALENDAR
