BEGIN:VCALENDAR
VERSION:2.0
PRODID:-//ZContent.net//ZapCalLib 1.0//EN
CALSCALE:GREGORIAN
METHOD:PUBLISH
BEGIN:VEVENT
SUMMARY:Serbien und Kosovo: Gemeinsamkeiten und Differenzen auf dem Weg nac
 h Europa | Konferenz
DTSTART:20070323T140000
DTEND:20070324T200000
UID:2026-04-24-21-19-26-0-@calendar.boell.de
DTSTAMP:20260424T191926
DESCRIPTION:
END:VEVENT
END:VCALENDAR
