BEGIN:VCALENDAR
VERSION:2.0
PRODID:-//ZContent.net//ZapCalLib 1.0//EN
CALSCALE:GREGORIAN
METHOD:PUBLISH
BEGIN:VEVENT
SUMMARY:Training: Making Governance Gender Responsive (MGGR), Philippines
DTSTART:20070219T000000
DTEND:20070224T000000
UID:2026-04-24-06-41-57-0-@calendar.boell.de
DTSTAMP:20260424T044157
DESCRIPTION:
END:VEVENT
END:VCALENDAR
