BEGIN:VCALENDAR
VERSION:2.0
PRODID:-//ZContent.net//ZapCalLib 1.0//EN
CALSCALE:GREGORIAN
METHOD:PUBLISH
BEGIN:VEVENT
SUMMARY:Landtagswahlen in Hessen und Niedersachsen
DTSTART:20080127T080000
DTEND:20080127T180000
UID:2026-04-24-08-47-11-0-@calendar.boell.de
DTSTAMP:20260424T064711
DESCRIPTION:Externe Veranstaltung
END:VEVENT
END:VCALENDAR
