BEGIN:VCALENDAR
VERSION:2.0
PRODID:-//ZContent.net//ZapCalLib 1.0//EN
CALSCALE:GREGORIAN
METHOD:PUBLISH
BEGIN:VEVENT
SUMMARY:Zukunft der Gewerkschaften in seiner sich wandelnden Welt | Veranst
 altung der Konrad-Adenauer-Stiftung
DTSTART:20070131T103000
DTEND:20070131T180000
UID:2026-04-24-07-55-31-0-@calendar.boell.de
DTSTAMP:20260424T055531
DESCRIPTION:
END:VEVENT
END:VCALENDAR
