BEGIN:VCALENDAR
VERSION:2.0
PRODID:-//ZContent.net//ZapCalLib 1.0//EN
CALSCALE:GREGORIAN
METHOD:PUBLISH
BEGIN:VEVENT
SUMMARY:Wir bringen Europa auf Kurs! | Veranstaltung der Friedrich-Ebert-St
 iftung
DTSTART:20070123T123000
DTEND:20070123T153000
UID:2026-04-24-00-36-42-0-@calendar.boell.de
DTSTAMP:20260423T223642
DESCRIPTION:
END:VEVENT
END:VCALENDAR
