BEGIN:VCALENDAR
VERSION:2.0
PRODID:-//ZContent.net//ZapCalLib 1.0//EN
CALSCALE:GREGORIAN
METHOD:PUBLISH
BEGIN:VEVENT
SUMMARY:Ausweitung von Staatlichkeit im Bereich der inneren Sicherheit | Ve
 ranstaltung der Friedrich-Ebert-Stiftung
DTSTART:20070213T180000
DTEND:20070213T220000
UID:2026-04-24-04-19-05-0-@calendar.boell.de
DTSTAMP:20260424T021905
DESCRIPTION:
END:VEVENT
END:VCALENDAR
