BEGIN:VCALENDAR
VERSION:2.0
PRODID:-//ZContent.net//ZapCalLib 1.0//EN
CALSCALE:GREGORIAN
METHOD:PUBLISH
BEGIN:VEVENT
SUMMARY:Staat und innere Sicherheit in Europa | Veranstaltung der Friedrich
 -Ebert-Stiftung
DTSTART:20070313T180000
DTEND:20070313T220000
UID:2026-04-24-00-17-37-0-@calendar.boell.de
DTSTAMP:20260423T221737
DESCRIPTION:
END:VEVENT
END:VCALENDAR
