BEGIN:VCALENDAR
VERSION:2.0
PRODID:-//ZContent.net//ZapCalLib 1.0//EN
CALSCALE:GREGORIAN
METHOD:PUBLISH
BEGIN:VEVENT
SUMMARY:Tschernobyl-Tag
DTSTART:20070426T000000
DTEND:20070426T235900
UID:2026-04-25-04-43-43-0-@calendar.boell.de
DTSTAMP:20260425T024343
DESCRIPTION:Externe Veranstaltung
END:VEVENT
END:VCALENDAR
