BEGIN:VCALENDAR
VERSION:2.0
PRODID:-//ZContent.net//ZapCalLib 1.0//EN
CALSCALE:GREGORIAN
METHOD:PUBLISH
BEGIN:VEVENT
SUMMARY:G8-Gipfel in Heiligendamm
DTSTART:20070606T000000
DTEND:20070608T235900
UID:2026-04-25-06-20-00-0-@calendar.boell.de
DTSTAMP:20260425T042000
DESCRIPTION:Externe Veranstaltung
END:VEVENT
END:VCALENDAR
