BEGIN:VCALENDAR
VERSION:2.0
PRODID:-//ZContent.net//ZapCalLib 1.0//EN
CALSCALE:GREGORIAN
METHOD:PUBLISH
BEGIN:VEVENT
SUMMARY:Internationaler Frauentag
DTSTART:20070308T000000
DTEND:20070308T235900
UID:2026-04-25-04-12-44-0-@calendar.boell.de
DTSTAMP:20260425T021244
DESCRIPTION:Externe Veranstaltung
END:VEVENT
END:VCALENDAR
