BEGIN:VCALENDAR
VERSION:2.0
PRODID:-//ZContent.net//ZapCalLib 1.0//EN
CALSCALE:GREGORIAN
METHOD:PUBLISH
BEGIN:VEVENT
SUMMARY:Landesparteitag Bündnis 90/Die Grünen Sachsen
DTSTART:20070209T000000
DTEND:20070209T235900
UID:2026-04-25-03-08-57-0-@calendar.boell.de
DTSTAMP:20260425T010857
DESCRIPTION:
END:VEVENT
END:VCALENDAR
