BEGIN:VCALENDAR
VERSION:2.0
PRODID:-//ZContent.net//ZapCalLib 1.0//EN
CALSCALE:GREGORIAN
METHOD:PUBLISH
BEGIN:VEVENT
SUMMARY:Landesfrauenräte Bündnis 90/Die Grünen
DTSTART:20070210T000000
DTEND:20070210T235900
UID:2026-04-24-10-55-10-0-@calendar.boell.de
DTSTAMP:20260424T085510
DESCRIPTION:
END:VEVENT
END:VCALENDAR
