BEGIN:VCALENDAR
VERSION:2.0
PRODID:-//ZContent.net//ZapCalLib 1.0//EN
CALSCALE:GREGORIAN
METHOD:PUBLISH
BEGIN:VEVENT
SUMMARY:Politischer Aschermittwoch in Bayern
DTSTART:20070221T000000
DTEND:20070221T235900
UID:2026-04-25-00-15-55-0-@calendar.boell.de
DTSTAMP:20260424T221555
DESCRIPTION:
END:VEVENT
END:VCALENDAR
