BEGIN:VCALENDAR
VERSION:2.0
PRODID:-//ZContent.net//ZapCalLib 1.0//EN
CALSCALE:GREGORIAN
METHOD:PUBLISH
BEGIN:VEVENT
SUMMARY:Kleiner Parteitag Schleswig-Holstein
DTSTART:20070224T000000
DTEND:20070224T235900
UID:2026-04-25-02-12-40-0-@calendar.boell.de
DTSTAMP:20260425T001240
DESCRIPTION:
END:VEVENT
END:VCALENDAR
