BEGIN:VCALENDAR
VERSION:2.0
PRODID:-//ZContent.net//ZapCalLib 1.0//EN
CALSCALE:GREGORIAN
METHOD:PUBLISH
BEGIN:VEVENT
SUMMARY:Purim-Fest
DTSTART:20070304T000000
DTEND:20070304T000000
UID:2026-04-25-04-12-50-0-@calendar.boell.de
DTSTAMP:20260425T021250
DESCRIPTION:Externe Veranstaltung
END:VEVENT
END:VCALENDAR
