BEGIN:VCALENDAR
VERSION:2.0
PRODID:-//ZContent.net//ZapCalLib 1.0//EN
CALSCALE:GREGORIAN
METHOD:PUBLISH
BEGIN:VEVENT
SUMMARY:Jahresempfang Bündnis 90/Die Grünen Mecklenburg-Vorpommern
DTSTART:20070419T000000
DTEND:20070419T235900
UID:2026-04-24-06-20-17-0-@calendar.boell.de
DTSTAMP:20260424T042017
DESCRIPTION:
END:VEVENT
END:VCALENDAR
