BEGIN:VCALENDAR
VERSION:2.0
PRODID:-//ZContent.net//ZapCalLib 1.0//EN
CALSCALE:GREGORIAN
METHOD:PUBLISH
BEGIN:VEVENT
SUMMARY:Landesmitgliederversammlung Bündnis 90/Die Grünen Hamburg
DTSTART:20070505T000000
DTEND:20070505T235900
UID:2026-04-24-13-56-43-0-@calendar.boell.de
DTSTAMP:20260424T115643
DESCRIPTION:
END:VEVENT
END:VCALENDAR
