BEGIN:VCALENDAR
VERSION:2.0
PRODID:-//ZContent.net//ZapCalLib 1.0//EN
CALSCALE:GREGORIAN
METHOD:PUBLISH
BEGIN:VEVENT
SUMMARY:BuVo-Sitzung Bündnis 90/Die Grünen
DTSTART:20070528T000000
DTEND:20070528T235900
UID:2026-04-24-08-46-19-0-@calendar.boell.de
DTSTAMP:20260424T064619
DESCRIPTION:
END:VEVENT
END:VCALENDAR
