BEGIN:VCALENDAR
VERSION:2.0
PRODID:-//ZContent.net//ZapCalLib 1.0//EN
CALSCALE:GREGORIAN
METHOD:PUBLISH
BEGIN:VEVENT
SUMMARY:BuVo- u. Parteiratssitzung Bündnis 90/Die Grünen
DTSTART:20070618T000000
DTEND:20070618T235900
UID:2026-04-25-13-27-22-0-@calendar.boell.de
DTSTAMP:20260425T112722
DESCRIPTION:
END:VEVENT
END:VCALENDAR
