BEGIN:VCALENDAR
VERSION:2.0
PRODID:-//ZContent.net//ZapCalLib 1.0//EN
CALSCALE:GREGORIAN
METHOD:PUBLISH
BEGIN:VEVENT
SUMMARY:BuVo-Sitzung Bündnis 90/Die Grünen
DTSTART:20070625T000000
DTEND:20070625T235900
UID:2026-04-26-04-41-05-0-@calendar.boell.de
DTSTAMP:20260426T024105
DESCRIPTION:
END:VEVENT
END:VCALENDAR
