BEGIN:VCALENDAR
VERSION:2.0
PRODID:-//ZContent.net//ZapCalLib 1.0//EN
CALSCALE:GREGORIAN
METHOD:PUBLISH
BEGIN:VEVENT
SUMMARY:EQUAL-Fachtagung: Wie effektiv und effizient ist öffentliche Grün
 dungsunterstützung
DTSTART:20070125T130000
DTEND:20070126T130000
UID:2026-04-25-12-35-12-0-@calendar.boell.de
DTSTAMP:20260425T103512
DESCRIPTION:
END:VEVENT
END:VCALENDAR
