BEGIN:VCALENDAR
VERSION:2.0
PRODID:-//ZContent.net//ZapCalLib 1.0//EN
CALSCALE:GREGORIAN
METHOD:PUBLISH
BEGIN:VEVENT
SUMMARY:Buchvorstellung: Deproduktion. Schwangerschaftsabbruch im internati
 onalen Kontext
DTSTART:20070130T203000
DTEND:20070130T223000
UID:2026-04-26-04-41-14-0-@calendar.boell.de
DTSTAMP:20260426T024114
DESCRIPTION:Externe Veranstaltung
END:VEVENT
END:VCALENDAR
