BEGIN:VCALENDAR
VERSION:2.0
PRODID:-//ZContent.net//ZapCalLib 1.0//EN
CALSCALE:GREGORIAN
METHOD:PUBLISH
BEGIN:VEVENT
SUMMARY:Roadmap to 1325: Gender in der EU-Friedens- und Sicherheitspolitik 
 | Anlässlich des Europatages vom 4.-6.Mai 2007 in Berlin
DTSTART:20070504T120000
DTEND:20070506T140000
UID:2026-04-24-11-35-36-0-@calendar.boell.de
DTSTAMP:20260424T093536
DESCRIPTION:
END:VEVENT
END:VCALENDAR
