BEGIN:VCALENDAR
VERSION:2.0
PRODID:-//ZContent.net//ZapCalLib 1.0//EN
CALSCALE:GREGORIAN
METHOD:PUBLISH
BEGIN:VEVENT
SUMMARY:Muslime als Staatsbürger | Bürgerschaftliches Engagement aus inte
 rnationaler Perspektive - Podiumsdiskussion
DTSTART:20070208T193000
DTEND:20070208T220000
UID:2026-04-24-20-37-08-0-@calendar.boell.de
DTSTAMP:20260424T183708
DESCRIPTION:Heinrich-Böll-Stiftung - Bundesstiftung Berlin
END:VEVENT
END:VCALENDAR
