BEGIN:VCALENDAR
VERSION:2.0
PRODID:-//ZContent.net//ZapCalLib 1.0//EN
CALSCALE:GREGORIAN
METHOD:PUBLISH
BEGIN:VEVENT
SUMMARY:Europa neu denken - verschoben auf 20.3.!
DTSTART:20070207T000000
DTEND:20070207T000000
UID:2026-04-25-03-08-12-0-@calendar.boell.de
DTSTAMP:20260425T010812
DESCRIPTION:Heinrich-Böll-Stiftung - Bundesstiftung Berlin
END:VEVENT
END:VCALENDAR
