BEGIN:VCALENDAR
VERSION:2.0
PRODID:-//ZContent.net//ZapCalLib 1.0//EN
CALSCALE:GREGORIAN
METHOD:PUBLISH
BEGIN:VEVENT
SUMMARY:The Future Association Agreement between the EU and the Andean Comm
 unity | BÖLL LUNCH LECTURE 
DTSTART:20070206T130000
DTEND:20070206T150000
UID:2026-04-25-01-00-47-0-@calendar.boell.de
DTSTAMP:20260424T230047
DESCRIPTION:Heinrich-Böll-Stiftung Brüssel - Europäische Union
END:VEVENT
END:VCALENDAR
