BEGIN:VCALENDAR
VERSION:2.0
PRODID:-//ZContent.net//ZapCalLib 1.0//EN
CALSCALE:GREGORIAN
METHOD:PUBLISH
BEGIN:VEVENT
SUMMARY:Testva
DTSTART:20070101T000000
DTEND:20070101T100000
UID:2026-04-25-03-30-05-0-@calendar.boell.de
DTSTAMP:20260425T013005
DESCRIPTION:Heinrich-Böll-Stiftung - Bundesstiftung Berlin
END:VEVENT
END:VCALENDAR
