BEGIN:VCALENDAR
VERSION:2.0
PRODID:-//ZContent.net//ZapCalLib 1.0//EN
CALSCALE:GREGORIAN
METHOD:PUBLISH
BEGIN:VEVENT
SUMMARY:Buchpremiere: Verschleierte Wirklichkeit. Die Frau, der Islam und d
 er Westen
DTSTART:20070215T160000
DTEND:20070215T180000
UID:2026-04-24-21-48-16-0-@calendar.boell.de
DTSTAMP:20260424T194816
DESCRIPTION:
END:VEVENT
END:VCALENDAR
