BEGIN:VCALENDAR
VERSION:2.0
PRODID:-//ZContent.net//ZapCalLib 1.0//EN
CALSCALE:GREGORIAN
METHOD:PUBLISH
BEGIN:VEVENT
SUMMARY:FFGZ-Kurs: Wohlbefinden stärken, Gesundheitsrisiko Arbeitslosigkei
 t mindern | Kostenloses Gesundheitsangebot für arbeitslose Frauen
DTSTART:20070213T100000
DTEND:20070213T120000
UID:2026-04-25-01-37-33-0-@calendar.boell.de
DTSTAMP:20260424T233733
DESCRIPTION:
END:VEVENT
END:VCALENDAR
