BEGIN:VCALENDAR
VERSION:2.0
PRODID:-//ZContent.net//ZapCalLib 1.0//EN
CALSCALE:GREGORIAN
METHOD:PUBLISH
BEGIN:VEVENT
SUMMARY:Internationale Fachkonferenz: Performativität und Performance. Ges
 chlecht in Musik, Bildender Kunst, Theater und Neuen MedienTheater und Neu
 en Medien
DTSTART:20070216T140000
DTEND:20070218T130000
UID:2026-04-26-04-41-18-0-@calendar.boell.de
DTSTAMP:20260426T024118
DESCRIPTION:
END:VEVENT
END:VCALENDAR
