BEGIN:VCALENDAR
VERSION:2.0
PRODID:-//ZContent.net//ZapCalLib 1.0//EN
CALSCALE:GREGORIAN
METHOD:PUBLISH
BEGIN:VEVENT
SUMMARY:Internationale Jugendtagung: Gleiche Rechte für Mädchen und Junge
 n
DTSTART:20070208T083000
DTEND:20070209T130000
UID:2026-04-25-23-41-15-0-@calendar.boell.de
DTSTAMP:20260425T214115
DESCRIPTION:
END:VEVENT
END:VCALENDAR
