BEGIN:VCALENDAR
VERSION:2.0
PRODID:-//ZContent.net//ZapCalLib 1.0//EN
CALSCALE:GREGORIAN
METHOD:PUBLISH
BEGIN:VEVENT
SUMMARY:Gender Lecture: Gender Mainstreaming - eine Klasse für sich? | Die
  Debatte in den Medien um Gender Mainstreaming zwischen Furcht, Feminismus
  und neuer F- Klasse
DTSTART:20070205T200000
DTEND:20070205T220000
UID:2026-04-25-03-31-43-0-@calendar.boell.de
DTSTAMP:20260425T013143
DESCRIPTION:
END:VEVENT
END:VCALENDAR
