BEGIN:VCALENDAR
VERSION:2.0
PRODID:-//ZContent.net//ZapCalLib 1.0//EN
CALSCALE:GREGORIAN
METHOD:PUBLISH
BEGIN:VEVENT
SUMMARY:Aserbaidschan im 21. Jahrhundert – Entwicklung und Perspektiven |
  Veranstaltung der Konrad-Adenauer-Stiftung
DTSTART:20070215T183000
DTEND:20070215T200000
UID:2026-04-26-06-14-54-0-@calendar.boell.de
DTSTAMP:20260426T041454
DESCRIPTION:
END:VEVENT
END:VCALENDAR
