BEGIN:VCALENDAR
VERSION:2.0
PRODID:-//ZContent.net//ZapCalLib 1.0//EN
CALSCALE:GREGORIAN
METHOD:PUBLISH
BEGIN:VEVENT
SUMMARY:Rechtsextremismus im Stadion - unschöne Einzelfälle oder politisc
 he Gefahr? | Veranstaltung der Friedrich-Ebert-Stiftung
DTSTART:20070227T180000
DTEND:20070227T220000
UID:2026-04-25-05-00-05-0-@calendar.boell.de
DTSTAMP:20260425T030005
DESCRIPTION:
END:VEVENT
END:VCALENDAR
