BEGIN:VCALENDAR
VERSION:2.0
PRODID:-//ZContent.net//ZapCalLib 1.0//EN
CALSCALE:GREGORIAN
METHOD:PUBLISH
BEGIN:VEVENT
SUMMARY:100 Jahre internationale Frauenbewegung: gestern, heute und morgen 
 | Veranstaltung der Friedrich-Ebert-Stiftung
DTSTART:20070308T160000
DTEND:20070308T210000
UID:2026-04-26-04-41-18-0-@calendar.boell.de
DTSTAMP:20260426T024118
DESCRIPTION:
END:VEVENT
END:VCALENDAR
